BEGIN:VCALENDAR
VERSION:2.0
PRODID:-//wp-events-plugin.com//7.2.3.1//EN
BEGIN:VEVENT
UID:193@councilofindustries.com
DTSTART;TZID=America/Los_Angeles;VALUE=DATE:20220222
DTEND;TZID=America/Los_Angeles;VALUE=DATE:20220223
DTSTAMP:20220216T184520Z
URL:https://councilofindustries.com/events/berkeley-lab-national-energy-st
 orage-summit-applications-due/
SUMMARY:Berkeley Lab National Energy Storage Summit Applications Due
DESCRIPTION:Berkeley Lab National Energy Storage Summit Applications Due Fe
 bruary 22\, Event is March 8-9\n\nAre you working in an energy-intense ind
 ustry and want to secure a speaking role at the Berkeley Lab's Summit rela
 ted to energy storage? Describe your best idea related to your company's m
 ission or beyond\, and submit a 2-minute application. Then\, register to a
 ttend the National Energy Storage Summit\, a free virtual event\, from 3/8
 -3/9/22.\n\nLearn more\n\nSubmit a 2-minute application by 2/22\n\nREGISTE
 R TO ATTEND\n\n\n
CATEGORIES:Special Event
END:VEVENT
BEGIN:VTIMEZONE
TZID:America/Los_Angeles
X-LIC-LOCATION:America/Los_Angeles
BEGIN:STANDARD
DTSTART:20211107T010000
TZOFFSETFROM:-0700
TZOFFSETTO:-0800
TZNAME:PST
END:STANDARD
END:VTIMEZONE
END:VCALENDAR