BEGIN:VCALENDAR
VERSION:2.0
PRODID:-//wp-events-plugin.com//7.2.3.1//EN
BEGIN:VEVENT
UID:394@councilofindustries.com
DTSTART;TZID=America/Los_Angeles:20261006T183000
DTEND;TZID=America/Los_Angeles:20261006T203000
DTSTAMP:20240827T184954Z
URL:https://councilofindustries.com/events/city-council-meeting-2026-10-06
 /
SUMMARY:City Council meeting
DESCRIPTION:City Council meetings are held on the 1st\, 3rd\, and 4th Tuesd
 ays of the month\, every month\, at 6:30pm in the Council Chambers at Civi
 c Center Plaza.
CATEGORIES:City Council Meeting
END:VEVENT
BEGIN:VTIMEZONE
TZID:America/Los_Angeles
X-LIC-LOCATION:America/Los_Angeles
BEGIN:DAYLIGHT
DTSTART:20260308T030000
TZOFFSETFROM:-0800
TZOFFSETTO:-0700
TZNAME:PDT
END:DAYLIGHT
END:VTIMEZONE
END:VCALENDAR